BEGIN:VCALENDAR
VERSION:2.0
PRODID:KKTIX
CALSCALE:GREGORIAN
METHOD:PUBLISH
BEGIN:VTIMEZONE
TZID:Asia/Taipei
END:VTIMEZONE
BEGIN:VEVENT
DTSTAMP:20260424T135456Z
UID:7ac31bed-bfdb-45c1-bdbe-fdba6ead0e2e
DTSTART:20260705T110000Z
DTEND:20260705T110000Z
CLASS:PUBLIC
DESCRIPTION:https://kklivetw.kktix.cc/events/ikdgr
LOCATION: (臺北市中正區八德路一段1號華山1914創意文化園
 區中5A館) Legacy Taipei
SUMMARY:2026 PIZZALI－『拼一個浪漫』 首次個人專場演唱會
END:VEVENT
END:VCALENDAR
