BEGIN:VCALENDAR
VERSION:2.0
PRODID:KKTIX
CALSCALE:GREGORIAN
METHOD:PUBLISH
BEGIN:VTIMEZONE
TZID:Asia/Taipei
END:VTIMEZONE
BEGIN:VEVENT
DTSTAMP:20260422T155036Z
UID:7e192f99-77a6-4bcb-8181-f5d1fa6fcf77
DTSTART:20260621T103000Z
DTEND:20260621T103000Z
CLASS:PUBLIC
DESCRIPTION:https://kklivetw.kktix.cc/events/efb2a871
LOCATION: (桃園市龜山區文化一路250號) 國立體育大學綜合
 體育館(NTSU Arena)
SUMMARY:2026 &TEAM CONCERT TOUR 'BLAZE THE WAY' IN TAIPEI
END:VEVENT
END:VCALENDAR
